BEGIN:VCALENDAR
VERSION:2.0
PRODID:-//Stockbridge Wellness Center - ECPv6.15.20//NONSGML v1.0//EN
CALSCALE:GREGORIAN
METHOD:PUBLISH
X-WR-CALNAME:Stockbridge Wellness Center
X-ORIGINAL-URL:https://www.stockbridgewellness.org
X-WR-CALDESC:Events for Stockbridge Wellness Center
REFRESH-INTERVAL;VALUE=DURATION:PT1H
X-Robots-Tag:noindex
X-PUBLISHED-TTL:PT1H
BEGIN:VTIMEZONE
TZID:America/New_York
BEGIN:DAYLIGHT
TZOFFSETFROM:-0500
TZOFFSETTO:-0400
TZNAME:EDT
DTSTART:20230312T070000
END:DAYLIGHT
BEGIN:STANDARD
TZOFFSETFROM:-0400
TZOFFSETTO:-0500
TZNAME:EST
DTSTART:20231105T060000
END:STANDARD
BEGIN:DAYLIGHT
TZOFFSETFROM:-0500
TZOFFSETTO:-0400
TZNAME:EDT
DTSTART:20240310T070000
END:DAYLIGHT
BEGIN:STANDARD
TZOFFSETFROM:-0400
TZOFFSETTO:-0500
TZNAME:EST
DTSTART:20241103T060000
END:STANDARD
BEGIN:DAYLIGHT
TZOFFSETFROM:-0500
TZOFFSETTO:-0400
TZNAME:EDT
DTSTART:20250309T070000
END:DAYLIGHT
BEGIN:STANDARD
TZOFFSETFROM:-0400
TZOFFSETTO:-0500
TZNAME:EST
DTSTART:20251102T060000
END:STANDARD
END:VTIMEZONE
BEGIN:VEVENT
DTSTART;TZID=America/New_York:20240813T080000
DTEND;TZID=America/New_York:20240813T090000
DTSTAMP:20260423T084031
CREATED:20240402T185939Z
LAST-MODIFIED:20240402T185939Z
UID:10001934-1723536000-1723539600@www.stockbridgewellness.org
SUMMARY:Total Body Circuit
DESCRIPTION:A circuit based\, total body workout appropriate for all fitness levels
URL:https://www.stockbridgewellness.org/event/total-body-circuit/2024-08-13/
LOCATION:Fitness Floor
CATEGORIES:Cardio / Strength
END:VEVENT
BEGIN:VEVENT
DTSTART;TZID=America/New_York:20240806T080000
DTEND;TZID=America/New_York:20240806T090000
DTSTAMP:20260423T084031
CREATED:20240402T185939Z
LAST-MODIFIED:20240402T185939Z
UID:10001933-1722931200-1722934800@www.stockbridgewellness.org
SUMMARY:Total Body Circuit
DESCRIPTION:A circuit based\, total body workout appropriate for all fitness levels
URL:https://www.stockbridgewellness.org/event/total-body-circuit/2024-08-06/
LOCATION:Fitness Floor
CATEGORIES:Cardio / Strength
END:VEVENT
BEGIN:VEVENT
DTSTART;TZID=America/New_York:20240730T080000
DTEND;TZID=America/New_York:20240730T090000
DTSTAMP:20260423T084031
CREATED:20240402T185939Z
LAST-MODIFIED:20240402T185939Z
UID:10001932-1722326400-1722330000@www.stockbridgewellness.org
SUMMARY:Total Body Circuit
DESCRIPTION:A circuit based\, total body workout appropriate for all fitness levels
URL:https://www.stockbridgewellness.org/event/total-body-circuit/2024-07-30/
LOCATION:Fitness Floor
CATEGORIES:Cardio / Strength
END:VEVENT
BEGIN:VEVENT
DTSTART;TZID=America/New_York:20240723T080000
DTEND;TZID=America/New_York:20240723T090000
DTSTAMP:20260423T084031
CREATED:20240402T185939Z
LAST-MODIFIED:20240402T185939Z
UID:10001931-1721721600-1721725200@www.stockbridgewellness.org
SUMMARY:Total Body Circuit
DESCRIPTION:A circuit based\, total body workout appropriate for all fitness levels
URL:https://www.stockbridgewellness.org/event/total-body-circuit/2024-07-23/
LOCATION:Fitness Floor
CATEGORIES:Cardio / Strength
END:VEVENT
BEGIN:VEVENT
DTSTART;TZID=America/New_York:20240716T080000
DTEND;TZID=America/New_York:20240716T090000
DTSTAMP:20260423T084031
CREATED:20240402T185939Z
LAST-MODIFIED:20240402T185939Z
UID:10001930-1721116800-1721120400@www.stockbridgewellness.org
SUMMARY:Total Body Circuit
DESCRIPTION:A circuit based\, total body workout appropriate for all fitness levels
URL:https://www.stockbridgewellness.org/event/total-body-circuit/2024-07-16/
LOCATION:Fitness Floor
CATEGORIES:Cardio / Strength
END:VEVENT
BEGIN:VEVENT
DTSTART;TZID=America/New_York:20240709T080000
DTEND;TZID=America/New_York:20240709T090000
DTSTAMP:20260423T084031
CREATED:20240402T185939Z
LAST-MODIFIED:20240402T185939Z
UID:10001929-1720512000-1720515600@www.stockbridgewellness.org
SUMMARY:Total Body Circuit
DESCRIPTION:A circuit based\, total body workout appropriate for all fitness levels
URL:https://www.stockbridgewellness.org/event/total-body-circuit/2024-07-09/
LOCATION:Fitness Floor
CATEGORIES:Cardio / Strength
END:VEVENT
BEGIN:VEVENT
DTSTART;TZID=America/New_York:20240702T080000
DTEND;TZID=America/New_York:20240702T090000
DTSTAMP:20260423T084031
CREATED:20240402T185939Z
LAST-MODIFIED:20240402T185939Z
UID:10001928-1719907200-1719910800@www.stockbridgewellness.org
SUMMARY:Total Body Circuit
DESCRIPTION:A circuit based\, total body workout appropriate for all fitness levels
URL:https://www.stockbridgewellness.org/event/total-body-circuit/2024-07-02/
LOCATION:Fitness Floor
CATEGORIES:Cardio / Strength
END:VEVENT
BEGIN:VEVENT
DTSTART;TZID=America/New_York:20240625T080000
DTEND;TZID=America/New_York:20240625T090000
DTSTAMP:20260423T084031
CREATED:20240402T185939Z
LAST-MODIFIED:20240402T185939Z
UID:10001927-1719302400-1719306000@www.stockbridgewellness.org
SUMMARY:Total Body Circuit
DESCRIPTION:A circuit based\, total body workout appropriate for all fitness levels
URL:https://www.stockbridgewellness.org/event/total-body-circuit/2024-06-25/
LOCATION:Fitness Floor
CATEGORIES:Cardio / Strength
END:VEVENT
BEGIN:VEVENT
DTSTART;TZID=America/New_York:20240618T080000
DTEND;TZID=America/New_York:20240618T090000
DTSTAMP:20260423T084031
CREATED:20240402T185939Z
LAST-MODIFIED:20240402T185939Z
UID:10001926-1718697600-1718701200@www.stockbridgewellness.org
SUMMARY:Total Body Circuit
DESCRIPTION:A circuit based\, total body workout appropriate for all fitness levels
URL:https://www.stockbridgewellness.org/event/total-body-circuit/2024-06-18/
LOCATION:Fitness Floor
CATEGORIES:Cardio / Strength
END:VEVENT
BEGIN:VEVENT
DTSTART;TZID=America/New_York:20240611T080000
DTEND;TZID=America/New_York:20240611T090000
DTSTAMP:20260423T084031
CREATED:20240402T185939Z
LAST-MODIFIED:20240402T185939Z
UID:10001925-1718092800-1718096400@www.stockbridgewellness.org
SUMMARY:Total Body Circuit
DESCRIPTION:A circuit based\, total body workout appropriate for all fitness levels
URL:https://www.stockbridgewellness.org/event/total-body-circuit/2024-06-11/
LOCATION:Fitness Floor
CATEGORIES:Cardio / Strength
END:VEVENT
BEGIN:VEVENT
DTSTART;TZID=America/New_York:20240604T080000
DTEND;TZID=America/New_York:20240604T090000
DTSTAMP:20260423T084031
CREATED:20240402T185939Z
LAST-MODIFIED:20240402T185939Z
UID:10001924-1717488000-1717491600@www.stockbridgewellness.org
SUMMARY:Total Body Circuit
DESCRIPTION:A circuit based\, total body workout appropriate for all fitness levels
URL:https://www.stockbridgewellness.org/event/total-body-circuit/2024-06-04/
LOCATION:Fitness Floor
CATEGORIES:Cardio / Strength
END:VEVENT
BEGIN:VEVENT
DTSTART;TZID=America/New_York:20240528T080000
DTEND;TZID=America/New_York:20240528T090000
DTSTAMP:20260423T084031
CREATED:20240402T185939Z
LAST-MODIFIED:20240402T185939Z
UID:10001923-1716883200-1716886800@www.stockbridgewellness.org
SUMMARY:Total Body Circuit
DESCRIPTION:A circuit based\, total body workout appropriate for all fitness levels
URL:https://www.stockbridgewellness.org/event/total-body-circuit/2024-05-28/
LOCATION:Fitness Floor
CATEGORIES:Cardio / Strength
END:VEVENT
BEGIN:VEVENT
DTSTART;TZID=America/New_York:20240521T080000
DTEND;TZID=America/New_York:20240521T090000
DTSTAMP:20260423T084031
CREATED:20240402T185939Z
LAST-MODIFIED:20240402T185939Z
UID:10001922-1716278400-1716282000@www.stockbridgewellness.org
SUMMARY:Total Body Circuit
DESCRIPTION:A circuit based\, total body workout appropriate for all fitness levels
URL:https://www.stockbridgewellness.org/event/total-body-circuit/2024-05-21/
LOCATION:Fitness Floor
CATEGORIES:Cardio / Strength
END:VEVENT
BEGIN:VEVENT
DTSTART;TZID=America/New_York:20240514T080000
DTEND;TZID=America/New_York:20240514T090000
DTSTAMP:20260423T084031
CREATED:20240402T185939Z
LAST-MODIFIED:20240402T185939Z
UID:10001921-1715673600-1715677200@www.stockbridgewellness.org
SUMMARY:Total Body Circuit
DESCRIPTION:A circuit based\, total body workout appropriate for all fitness levels
URL:https://www.stockbridgewellness.org/event/total-body-circuit/2024-05-14/
LOCATION:Fitness Floor
CATEGORIES:Cardio / Strength
END:VEVENT
BEGIN:VEVENT
DTSTART;TZID=America/New_York:20240507T080000
DTEND;TZID=America/New_York:20240507T090000
DTSTAMP:20260423T084031
CREATED:20240402T185939Z
LAST-MODIFIED:20240402T185939Z
UID:10001920-1715068800-1715072400@www.stockbridgewellness.org
SUMMARY:Total Body Circuit
DESCRIPTION:A circuit based\, total body workout appropriate for all fitness levels
URL:https://www.stockbridgewellness.org/event/total-body-circuit/2024-05-07/
LOCATION:Fitness Floor
CATEGORIES:Cardio / Strength
END:VEVENT
BEGIN:VEVENT
DTSTART;TZID=America/New_York:20240430T080000
DTEND;TZID=America/New_York:20240430T090000
DTSTAMP:20260423T084031
CREATED:20240402T185939Z
LAST-MODIFIED:20240402T185939Z
UID:10001919-1714464000-1714467600@www.stockbridgewellness.org
SUMMARY:Total Body Circuit
DESCRIPTION:A circuit based\, total body workout appropriate for all fitness levels
URL:https://www.stockbridgewellness.org/event/total-body-circuit/2024-04-30/
LOCATION:Fitness Floor
CATEGORIES:Cardio / Strength
END:VEVENT
BEGIN:VEVENT
DTSTART;TZID=America/New_York:20240423T080000
DTEND;TZID=America/New_York:20240423T090000
DTSTAMP:20260423T084031
CREATED:20240402T185939Z
LAST-MODIFIED:20240402T185939Z
UID:10001918-1713859200-1713862800@www.stockbridgewellness.org
SUMMARY:Total Body Circuit
DESCRIPTION:A circuit based\, total body workout appropriate for all fitness levels
URL:https://www.stockbridgewellness.org/event/total-body-circuit/2024-04-23/
LOCATION:Fitness Floor
CATEGORIES:Cardio / Strength
END:VEVENT
BEGIN:VEVENT
DTSTART;TZID=America/New_York:20240416T080000
DTEND;TZID=America/New_York:20240416T090000
DTSTAMP:20260423T084031
CREATED:20240402T185939Z
LAST-MODIFIED:20240402T185939Z
UID:10001917-1713254400-1713258000@www.stockbridgewellness.org
SUMMARY:Total Body Circuit
DESCRIPTION:A circuit based\, total body workout appropriate for all fitness levels
URL:https://www.stockbridgewellness.org/event/total-body-circuit/2024-04-16/
LOCATION:Fitness Floor
CATEGORIES:Cardio / Strength
END:VEVENT
BEGIN:VEVENT
DTSTART;TZID=America/New_York:20240409T080000
DTEND;TZID=America/New_York:20240409T090000
DTSTAMP:20260423T084031
CREATED:20240402T185939Z
LAST-MODIFIED:20240402T185939Z
UID:10001916-1712649600-1712653200@www.stockbridgewellness.org
SUMMARY:Total Body Circuit
DESCRIPTION:A circuit based\, total body workout appropriate for all fitness levels
URL:https://www.stockbridgewellness.org/event/total-body-circuit/2024-04-09/
LOCATION:Fitness Floor
CATEGORIES:Cardio / Strength
END:VEVENT
BEGIN:VEVENT
DTSTART;TZID=America/New_York:20240402T080000
DTEND;TZID=America/New_York:20240402T090000
DTSTAMP:20260423T084031
CREATED:20240402T185939Z
LAST-MODIFIED:20240402T185939Z
UID:10001915-1712044800-1712048400@www.stockbridgewellness.org
SUMMARY:Total Body Circuit
DESCRIPTION:A circuit based\, total body workout appropriate for all fitness levels
URL:https://www.stockbridgewellness.org/event/total-body-circuit/2024-04-02/
LOCATION:Fitness Floor
CATEGORIES:Cardio / Strength
END:VEVENT
BEGIN:VEVENT
DTSTART;TZID=America/New_York:20240326T080000
DTEND;TZID=America/New_York:20240326T090000
DTSTAMP:20260423T084031
CREATED:20240402T185939Z
LAST-MODIFIED:20240402T185939Z
UID:10001914-1711440000-1711443600@www.stockbridgewellness.org
SUMMARY:Total Body Circuit
DESCRIPTION:A circuit based\, total body workout appropriate for all fitness levels
URL:https://www.stockbridgewellness.org/event/total-body-circuit/2024-03-26/
LOCATION:Fitness Floor
CATEGORIES:Cardio / Strength
END:VEVENT
BEGIN:VEVENT
DTSTART;TZID=America/New_York:20240319T080000
DTEND;TZID=America/New_York:20240319T090000
DTSTAMP:20260423T084031
CREATED:20240402T185939Z
LAST-MODIFIED:20240402T185939Z
UID:10001913-1710835200-1710838800@www.stockbridgewellness.org
SUMMARY:Total Body Circuit
DESCRIPTION:A circuit based\, total body workout appropriate for all fitness levels
URL:https://www.stockbridgewellness.org/event/total-body-circuit/2024-03-19/
LOCATION:Fitness Floor
CATEGORIES:Cardio / Strength
END:VEVENT
BEGIN:VEVENT
DTSTART;TZID=America/New_York:20240312T080000
DTEND;TZID=America/New_York:20240312T090000
DTSTAMP:20260423T084031
CREATED:20240402T185939Z
LAST-MODIFIED:20240402T185939Z
UID:10001912-1710230400-1710234000@www.stockbridgewellness.org
SUMMARY:Total Body Circuit
DESCRIPTION:A circuit based\, total body workout appropriate for all fitness levels
URL:https://www.stockbridgewellness.org/event/total-body-circuit/2024-03-12/
LOCATION:Fitness Floor
CATEGORIES:Cardio / Strength
END:VEVENT
BEGIN:VEVENT
DTSTART;TZID=America/New_York:20240305T080000
DTEND;TZID=America/New_York:20240305T090000
DTSTAMP:20260423T084031
CREATED:20240402T185939Z
LAST-MODIFIED:20240402T185939Z
UID:10001911-1709625600-1709629200@www.stockbridgewellness.org
SUMMARY:Total Body Circuit
DESCRIPTION:A circuit based\, total body workout appropriate for all fitness levels
URL:https://www.stockbridgewellness.org/event/total-body-circuit/2024-03-05/
LOCATION:Fitness Floor
CATEGORIES:Cardio / Strength
END:VEVENT
BEGIN:VEVENT
DTSTART;TZID=America/New_York:20240227T080000
DTEND;TZID=America/New_York:20240227T090000
DTSTAMP:20260423T084031
CREATED:20240402T185939Z
LAST-MODIFIED:20240402T185939Z
UID:10001910-1709020800-1709024400@www.stockbridgewellness.org
SUMMARY:Total Body Circuit
DESCRIPTION:A circuit based\, total body workout appropriate for all fitness levels
URL:https://www.stockbridgewellness.org/event/total-body-circuit/2024-02-27/
LOCATION:Fitness Floor
CATEGORIES:Cardio / Strength
END:VEVENT
BEGIN:VEVENT
DTSTART;TZID=America/New_York:20240220T080000
DTEND;TZID=America/New_York:20240220T090000
DTSTAMP:20260423T084031
CREATED:20240402T185939Z
LAST-MODIFIED:20240402T185939Z
UID:10001909-1708416000-1708419600@www.stockbridgewellness.org
SUMMARY:Total Body Circuit
DESCRIPTION:A circuit based\, total body workout appropriate for all fitness levels
URL:https://www.stockbridgewellness.org/event/total-body-circuit/2024-02-20/
LOCATION:Fitness Floor
CATEGORIES:Cardio / Strength
END:VEVENT
BEGIN:VEVENT
DTSTART;TZID=America/New_York:20240213T080000
DTEND;TZID=America/New_York:20240213T090000
DTSTAMP:20260423T084031
CREATED:20240402T185939Z
LAST-MODIFIED:20240402T185939Z
UID:10001908-1707811200-1707814800@www.stockbridgewellness.org
SUMMARY:Total Body Circuit
DESCRIPTION:A circuit based\, total body workout appropriate for all fitness levels
URL:https://www.stockbridgewellness.org/event/total-body-circuit/2024-02-13/
LOCATION:Fitness Floor
CATEGORIES:Cardio / Strength
END:VEVENT
BEGIN:VEVENT
DTSTART;TZID=America/New_York:20240206T080000
DTEND;TZID=America/New_York:20240206T090000
DTSTAMP:20260423T084031
CREATED:20240402T185939Z
LAST-MODIFIED:20240402T185939Z
UID:10001907-1707206400-1707210000@www.stockbridgewellness.org
SUMMARY:Total Body Circuit
DESCRIPTION:A circuit based\, total body workout appropriate for all fitness levels
URL:https://www.stockbridgewellness.org/event/total-body-circuit/2024-02-06/
LOCATION:Fitness Floor
CATEGORIES:Cardio / Strength
END:VEVENT
BEGIN:VEVENT
DTSTART;TZID=America/New_York:20240130T080000
DTEND;TZID=America/New_York:20240130T090000
DTSTAMP:20260423T084031
CREATED:20240402T185939Z
LAST-MODIFIED:20240402T185939Z
UID:10001906-1706601600-1706605200@www.stockbridgewellness.org
SUMMARY:Total Body Circuit
DESCRIPTION:A circuit based\, total body workout appropriate for all fitness levels
URL:https://www.stockbridgewellness.org/event/total-body-circuit/2024-01-30/
LOCATION:Fitness Floor
CATEGORIES:Cardio / Strength
END:VEVENT
BEGIN:VEVENT
DTSTART;TZID=America/New_York:20240123T080000
DTEND;TZID=America/New_York:20240123T090000
DTSTAMP:20260423T084031
CREATED:20240402T185939Z
LAST-MODIFIED:20240402T185939Z
UID:10001905-1705996800-1706000400@www.stockbridgewellness.org
SUMMARY:Total Body Circuit
DESCRIPTION:A circuit based\, total body workout appropriate for all fitness levels
URL:https://www.stockbridgewellness.org/event/total-body-circuit/2024-01-23/
LOCATION:Fitness Floor
CATEGORIES:Cardio / Strength
END:VEVENT
END:VCALENDAR